BEGIN:VCALENDAR
VERSION:2.0
PRODID:-//YONABE GALLERY（ヨナべギャラリー） - ECPv6.3.2//NONSGML v1.0//EN
CALSCALE:GREGORIAN
METHOD:PUBLISH
X-WR-CALNAME:YONABE GALLERY（ヨナべギャラリー）
X-ORIGINAL-URL:https://yonabegallery.com
X-WR-CALDESC:YONABE GALLERY（ヨナべギャラリー） のイベント
REFRESH-INTERVAL;VALUE=DURATION:PT1H
X-Robots-Tag:noindex
X-PUBLISHED-TTL:PT1H
BEGIN:VTIMEZONE
TZID:Asia/Tokyo
BEGIN:STANDARD
TZOFFSETFROM:+0900
TZOFFSETTO:+0900
TZNAME:JST
DTSTART:20240101T000000
END:STANDARD
END:VTIMEZONE
BEGIN:VEVENT
DTSTART;TZID=Asia/Tokyo:20240922T130000
DTEND;TZID=Asia/Tokyo:20240923T200000
DTSTAMP:20260423T072840
CREATED:20240915T000512Z
LAST-MODIFIED:20240915T002427Z
UID:2997-1727010000-1727121600@yonabegallery.com
SUMMARY:シルクスクリーンプリント体験 POP-UP STORE「NO MAD NUMSKULL × VIBES PRINT WORKS」
DESCRIPTION:9/22（日）、9/23（月・祝）13:00〜20:00にてシルクスクリーンプリント体験POP-UP STOREを開催いたします。 \n今回はデザイン、シルクスクリーン製版、プリント、パターン制作、縫製まで自ら行うZONZAI氏が主宰するNO MAD NUMSKULLと、横須賀在住の絵描きHATAKEが主宰する、確かに存在する不確かなものを売るスーパーナチュラル用品店バイブス商店のシルクスクリーンプリントライン「VIBES PRINT WORKS」に出店していただきます。 \nTシャツやトートーバッグなど持ち込み大歓迎！（素材によってはプリント不可のものもございます）\n1刷り1\,500円〜 お好きなものにお好きな柄をお好きな色でプリントしていただきます。\nプリント用の無地ボディーのご用意ありますので、手ぶらでもご参加も可能です。 \n保護者の方同伴であれば小さなお子様もご参加いただけます。\nカスレやズレなど気にせず、自由に楽しく！シルクスクリーンプリント体験を！
URL:https://yonabegallery.com/event/silkscreen_popup/
LOCATION:YONABE GALLERY\, 2-33-1 ザ・タワーハウス102\, 横須賀市\, 神奈川県\, 238-0012\, 日本
CATEGORIES:EVENT,WORKSHOP
ATTACH;FMTTYPE=image/jpeg:https://yonabegallery.com/wp2024/wp-content/uploads/2024/09/20240922_sc.jpg
END:VEVENT
BEGIN:VEVENT
DTSTART;TZID=Asia/Tokyo:20240804T130000
DTEND;TZID=Asia/Tokyo:20240804T180000
DTSTAMP:20260423T072840
CREATED:20240724T003102Z
LAST-MODIFIED:20240724T113938Z
UID:2928-1722776400-1722794400@yonabegallery.com
SUMMARY:ヨコスカの木を使ったペインティングワークショプ
DESCRIPTION:一般社団法人 葉山の森保全センター（HFC）さんと共同でワークショップを開催いたします。 \n横須賀市の森林面積は市全体の6割あり、その内の約半分が市有林となっています。\n	市の山の森林はこの約70年、人の手が入らないまま豊かに生⻑しています。一方で人の手が入らないために支障木、危険木、倒木処理、環境整備など様々な問題がおこっています。\nそれらの問題の一部を資源として捉え直すことによって継続的な森林整備を循環の中で行えないかと考えています。 \n「ヨコスカの木を使ったペインティングワークショプ」ではそんな横須賀の森林を保護する目的（環境保護プロジェクト）で伐採された木（間伐材）をキャンバスに、木の重さや触り心地などを感じながら絵付けを行っていただきます。\n今回のワークショップを通して木の質量や肌触りを実感いただき、普段目にしている景色が形を変えて自身の作品になる事や、このような身近な問題を考えるきっかけとなれば幸いです。
URL:https://yonabegallery.com/event/ws_hfc_202408/
LOCATION:YONABE GALLERY\, 2-33-1 ザ・タワーハウス102\, 横須賀市\, 神奈川県\, 238-0012\, 日本
CATEGORIES:WORKSHOP
ATTACH;FMTTYPE=image/jpeg:https://yonabegallery.com/wp2024/wp-content/uploads/2024/07/hfc_202408_3_s.jpg
END:VEVENT
BEGIN:VEVENT
DTSTART;TZID=Asia/Tokyo:20240714T180000
DTEND;TZID=Asia/Tokyo:20240715T110000
DTSTAMP:20260423T072840
CREATED:20240614T000221Z
LAST-MODIFIED:20240614T082846Z
UID:2757-1720980000-1721041200@yonabegallery.com
SUMMARY:YOH NAGAO（長尾 洋）による「コラージュを使ったアートワークショップ」
DESCRIPTION:講師 YOH NAGAOからのメッセージ\nこれまでに世界10ヵ国で幅広い世代を対象に実施してきた今回のワークショップは関東では初となります。\nたとえ絵を描くことが苦手でも、切って貼ることで作れるコラージュ作品を通し、アートをより深く理解し楽しむことを目的としており、毎回大好評となっています。ぜひご参加ください。 \n過去のワークショップの様子\n\n\n\n\n\n\n\n\n\n\n\n\n\n\n\n\n講師：YOH NAGAO（長尾 洋）PROFILE\n横浜市生まれ愛知県出身\n名古屋造形大学デザイン科卒 \nコラージュとアクリル絵具を使い、空想の民族、鬼や天狗、獅子舞などの伝統的なモチーフや昆虫を描き、現代社会の矛盾や西洋思想に対しての問いを投げかけている。\nこれまでにSCOPE ART FAIR MIAMI、LA ART SHOW、Swizz Beatz主催の No Commissionなどのアートフェアやイベント、広告の分野でもロールス・ロイス、欧州アシックス、東京キャラバン、JRA中京競馬場、グラニフ、名古屋パルコ、TOMS、STUDIO APARTMENT、KEYTALK、KITTE名古屋とのコラボレーションなど国内外で精力的に活動中。\n作品制作以外にも実際のメキシコのマヤ人、ナミビアのヒンバ族やヘレロ族、モンゴルの遊牧民などの現代でも先住民的生活を続ける民族に会いに行くフィールドワークも実施している。 \n\n\n\n\n\n\n【展覧会歴】 \n2023\n日本・YUGEN Gallery 個展 「Wild Thought」\nアメリカ・アートフェアAffordable Art Fair New York\n2022\nスイス・LECHBINSKA ART Gallery 個展 「COLLECTING AINU」\n2021\n日本・新町ビルディング 個展「Ceramicman」\n2019\nアメリカ・Mirus Gallery 個展「GENEALOGY」\n2018\nアメリカ・GR Gallery グループ展 「FANTASTIC WORLD」\n2017\nドイツ・「 No Commission | Bacardi+The Dean Collection」\nなど \nInstagram｜https://www.instagram.com/yohnagao/
URL:https://yonabegallery.com/event/ws-202406yohnagao/
LOCATION:YONABE GALLERY\, 2-33-1 ザ・タワーハウス102\, 横須賀市\, 神奈川県\, 238-0012\, 日本
CATEGORIES:WORKSHOP
ATTACH;FMTTYPE=image/jpeg:https://yonabegallery.com/wp2024/wp-content/uploads/2024/06/sp_ws_202406_yohnagao_b4.jpg
END:VEVENT
BEGIN:VEVENT
DTSTART;TZID=Asia/Tokyo:20240503T130000
DTEND;TZID=Asia/Tokyo:20240505T170000
DTSTAMP:20260423T072840
CREATED:20240430T000839Z
LAST-MODIFIED:20240501T110517Z
UID:2556-1714741200-1714928400@yonabegallery.com
SUMMARY:ダルマ創り ワークショップ
DESCRIPTION:GWの5月3日（火）〜5月5日（日）の間、子どもから大人まででなたでもご参加いてだけるダルマ創りワークショップを開催いたします。\nこちらは特に予約不要でご参加いただけますが、ダルマの数に限りがありますのでご予約の方優先とさせていただきます。 \n高さ18cm程度のダルマ（今回限定のサイズ）に、筆やマーカーにて自由にペイントしていただき、オリジナルのダルマ制作を体験していただくワークショップとなります） \nいちを期間を5月3日（火）〜5月5日（日）としておりますが、その他ご希望の日にち、時間等がございましたら、お気軽にお問い合わせください！
URL:https://yonabegallery.com/event/%e3%83%80%e3%83%ab%e3%83%9e%e5%89%b5%e3%82%8a%e3%83%af%e3%83%bc%e3%82%af%e3%82%b7%e3%83%a7%e3%83%83%e3%83%97/
LOCATION:YONABE GALLERY\, 2-33-1 ザ・タワーハウス102\, 横須賀市\, 神奈川県\, 238-0012\, 日本
CATEGORIES:WORKSHOP
ATTACH;FMTTYPE=image/jpeg:https://yonabegallery.com/wp2024/wp-content/uploads/2024/04/daruma_workshop_1.jpg
END:VEVENT
END:VCALENDAR