BEGIN:VCALENDAR
VERSION:2.0
PRODID:-//YONABE GALLERY（ヨナべギャラリー） - ECPv6.3.2//NONSGML v1.0//EN
CALSCALE:GREGORIAN
METHOD:PUBLISH
X-WR-CALNAME:YONABE GALLERY（ヨナべギャラリー）
X-ORIGINAL-URL:https://yonabegallery.com
X-WR-CALDESC:YONABE GALLERY（ヨナべギャラリー） のイベント
REFRESH-INTERVAL;VALUE=DURATION:PT1H
X-Robots-Tag:noindex
X-PUBLISHED-TTL:PT1H
BEGIN:VTIMEZONE
TZID:Asia/Tokyo
BEGIN:STANDARD
TZOFFSETFROM:+0900
TZOFFSETTO:+0900
TZNAME:JST
DTSTART:20250101T000000
END:STANDARD
END:VTIMEZONE
BEGIN:VEVENT
DTSTART;VALUE=DATE:20250301
DTEND;VALUE=DATE:20250401
DTSTAMP:20260422T204630
CREATED:20250220T064523Z
LAST-MODIFIED:20250228T080217Z
UID:3356-1740787200-1743465599@yonabegallery.com
SUMMARY:2025.3.1(sat)-3.31(mon)かねよ食堂×ヨネヤ｜再考スケボー展-Reimaged Decks Exhibition-
DESCRIPTION:
URL:https://yonabegallery.com/event/20250301-kaneyoneya/
LOCATION:かねよ食堂×ヨネヤ\, （かねよ食堂）〒239-0811 神奈川県横須賀市走水１丁目６−４　（ヨネヤ）〒238-0016 神奈川県横須賀市深田台４１
CATEGORIES:EXHIBITION
ATTACH;FMTTYPE=image/jpeg:https://yonabegallery.com/wp2024/wp-content/uploads/2025/02/A4DM_kaneyo-yonaya_url2.jpg
END:VEVENT
END:VCALENDAR