BEGIN:VCALENDAR
VERSION:2.0
PRODID:-//YONABE GALLERY（ヨナべギャラリー） - ECPv6.3.2//NONSGML v1.0//EN
CALSCALE:GREGORIAN
METHOD:PUBLISH
X-WR-CALNAME:YONABE GALLERY（ヨナべギャラリー）
X-ORIGINAL-URL:https://yonabegallery.com
X-WR-CALDESC:YONABE GALLERY（ヨナべギャラリー） のイベント
REFRESH-INTERVAL;VALUE=DURATION:PT1H
X-Robots-Tag:noindex
X-PUBLISHED-TTL:PT1H
BEGIN:VTIMEZONE
TZID:Asia/Tokyo
BEGIN:STANDARD
TZOFFSETFROM:+0900
TZOFFSETTO:+0900
TZNAME:JST
DTSTART:20240101T000000
END:STANDARD
END:VTIMEZONE
BEGIN:VEVENT
DTSTART;TZID=Asia/Tokyo:20241214T150000
DTEND;TZID=Asia/Tokyo:20241214T190000
DTSTAMP:20260423T150147
CREATED:20241128T021814Z
LAST-MODIFIED:20241209T134225Z
UID:3117-1734188400-1734202800@yonabegallery.com
SUMMARY:【Closing party】Skateboard Art Exhibition “Reimagined Decks”
DESCRIPTION:グループ展 Skateboard Art Exhibition “Reimagined Decks” クロージングパーティー \n日時｜2024年12月14日(土) 15:00-19:00\n入場｜無料（1drink order）\nDJ｜FAV、ARISA、NABEBUGYOH\nFOOD｜かねよ食堂、CHURROS GO ROUND
URL:https://yonabegallery.com/event/reimagined-decks-closing-party/
LOCATION:YONABE GALLERY\, 2-33-1 ザ・タワーハウス102\, 横須賀市\, 神奈川県\, 238-0012\, 日本
CATEGORIES:EVENT,EXHIBITION
ATTACH;FMTTYPE=image/jpeg:https://yonabegallery.com/wp2024/wp-content/uploads/2024/11/rd-closing.jpg
END:VEVENT
BEGIN:VEVENT
DTSTART;TZID=Asia/Tokyo:20241026T150000
DTEND;TZID=Asia/Tokyo:20241026T190000
DTSTAMP:20260423T150147
CREATED:20241009T000123Z
LAST-MODIFIED:20241009T000209Z
UID:3067-1729954800-1729969200@yonabegallery.com
SUMMARY:Skateboard Art Exhibition "Reimagined Decks" Opening Reception
DESCRIPTION:グループ展 Skateboard Art Exhibition “Reimagined Decks”オープニングレセプション \n日時｜2024年10月26日(土) 15:00-19:00\n入場｜無料\nDJ｜TOMY-NT（N.T.ORIGINAL）、DEMI-DOPE、HAZI-SOPE
URL:https://yonabegallery.com/event/skateboard-art-exhibition-reimagined-decks-opening-reception/
LOCATION:YONABE GALLERY\, 2-33-1 ザ・タワーハウス102\, 横須賀市\, 神奈川県\, 238-0012\, 日本
CATEGORIES:EVENT
ATTACH;FMTTYPE=image/jpeg:https://yonabegallery.com/wp2024/wp-content/uploads/2024/10/reception.jpg
END:VEVENT
BEGIN:VEVENT
DTSTART;TZID=Asia/Tokyo:20240924T130000
DTEND;TZID=Asia/Tokyo:20240927T200000
DTSTAMP:20260423T150147
CREATED:20240923T235333Z
LAST-MODIFIED:20240924T003350Z
UID:3018-1727182800-1727467200@yonabegallery.com
SUMMARY:バイブス商店 with CHURROS GO ROUND｜POP UP 延長戦
DESCRIPTION:9/22、23に開催したシルクスクリーンポップアップの延長戦として9/24（火）〜27（金）にて引き続きバイブス商店が出店いたします！ \n期間中はYONABE GALLERY入口スペースを「バイブス商店」として営業し、先日のシルクスクリーンに続いて、大人気のレーザーも設置いたします。\nまた、25（水）、26（木）は葉山Blue moonのチュロス屋さん「CHURROS GO ROUND」も出店してくれます。 \n \n暇つぶし、冷やかし大歓迎。\nHATAKE氏がわがまま＆実験的オーダーにも対応してくれます。 \n週末に来れなかった方も是非！\n確日とも13:00〜20:00です。\nよろしくお願いいたします！
URL:https://yonabegallery.com/event/vibes-20240924/
LOCATION:YONABE GALLERY\, 2-33-1 ザ・タワーハウス102\, 横須賀市\, 神奈川県\, 238-0012\, 日本
CATEGORIES:EVENT,POPUP
ATTACH;FMTTYPE=image/jpeg:https://yonabegallery.com/wp2024/wp-content/uploads/2024/09/vibes_1.jpg
END:VEVENT
BEGIN:VEVENT
DTSTART;TZID=Asia/Tokyo:20240922T130000
DTEND;TZID=Asia/Tokyo:20240923T200000
DTSTAMP:20260423T150147
CREATED:20240915T000512Z
LAST-MODIFIED:20240915T002427Z
UID:2997-1727010000-1727121600@yonabegallery.com
SUMMARY:シルクスクリーンプリント体験 POP-UP STORE「NO MAD NUMSKULL × VIBES PRINT WORKS」
DESCRIPTION:9/22（日）、9/23（月・祝）13:00〜20:00にてシルクスクリーンプリント体験POP-UP STOREを開催いたします。 \n今回はデザイン、シルクスクリーン製版、プリント、パターン制作、縫製まで自ら行うZONZAI氏が主宰するNO MAD NUMSKULLと、横須賀在住の絵描きHATAKEが主宰する、確かに存在する不確かなものを売るスーパーナチュラル用品店バイブス商店のシルクスクリーンプリントライン「VIBES PRINT WORKS」に出店していただきます。 \nTシャツやトートーバッグなど持ち込み大歓迎！（素材によってはプリント不可のものもございます）\n1刷り1\,500円〜 お好きなものにお好きな柄をお好きな色でプリントしていただきます。\nプリント用の無地ボディーのご用意ありますので、手ぶらでもご参加も可能です。 \n保護者の方同伴であれば小さなお子様もご参加いただけます。\nカスレやズレなど気にせず、自由に楽しく！シルクスクリーンプリント体験を！
URL:https://yonabegallery.com/event/silkscreen_popup/
LOCATION:YONABE GALLERY\, 2-33-1 ザ・タワーハウス102\, 横須賀市\, 神奈川県\, 238-0012\, 日本
CATEGORIES:EVENT,WORKSHOP
ATTACH;FMTTYPE=image/jpeg:https://yonabegallery.com/wp2024/wp-content/uploads/2024/09/20240922_sc.jpg
END:VEVENT
BEGIN:VEVENT
DTSTART;TZID=Asia/Tokyo:20240715T150000
DTEND;TZID=Asia/Tokyo:20240715T200000
DTSTAMP:20260423T150147
CREATED:20240629T064005Z
LAST-MODIFIED:20240702T063148Z
UID:2880-1721055600-1721073600@yonabegallery.com
SUMMARY:RESONANCE Closing party 7/15（月・祝）15:00〜20:00
DESCRIPTION:7/15（月・祝）15:00より現在開催しているART EXHIBITION「RESONANCE」のClosing partyを開催いたします。\nYONABE GALLERY初のDJを入れた営業となります。是非この機会にお越しください！！\nDJはヨネヤの慶君、昔からYONABEでお世話になっているDJ TKC、レペゼン越谷のYA-YU4000に加えインドから帰国中のエツ君もDJとして参加してくれます！ \nかねよ食堂、バイブス商店、mediumにも出店をお願いしております。\n作家も在廊予定ですので、お酒と料理と音楽とともに展示作品をお楽しみください！\nよろしくお願いいたします。 \n2024/7/15（月・祝）15:00〜20:00\n入場無料 \nExhibitor\nIKKOTORCIDA / GEORGE HAYASHI / YOH NAGAO / YUSEI SAGAWA \nDj\nDJ 仲山慶（ULTIMATE 4TH） / DJ TKC / サンライズ小林 / YA-YU4000 / and more… \nPop up store\nかねよ食堂（ケータリング） / バイブス商店（レーザー彫刻） / medium（コーヒー&抹茶） / and more…
URL:https://yonabegallery.com/event/resonance-closing-party/
LOCATION:YONABE GALLERY\, 2-33-1 ザ・タワーハウス102\, 横須賀市\, 神奈川県\, 238-0012\, 日本
CATEGORIES:EVENT
ATTACH;FMTTYPE=image/jpeg:https://yonabegallery.com/wp2024/wp-content/uploads/2024/06/rezonance_cp_h_s.jpg
END:VEVENT
BEGIN:VEVENT
DTSTART;TZID=Asia/Tokyo:20240512T130000
DTEND;TZID=Asia/Tokyo:20240512T200000
DTSTAMP:20260423T150147
CREATED:20240507T001920Z
LAST-MODIFIED:20240507T005012Z
UID:2604-1715518800-1715544000@yonabegallery.com
SUMMARY:5/12（日）ポップアップストア「medium（コーヒー）」
DESCRIPTION:5/12（日）にYONABE GALLERYにて、店舗を持たないコーヒー屋/mediumさんに出店していただきます。\nコーヒーと抹茶をメインに提供いただけるようです。美味しいコーヒーを片手にギャラリーの作品をお楽しみください！
URL:https://yonabegallery.com/event/20240512-medium-coffee/
LOCATION:YONABE GALLERY\, 2-33-1 ザ・タワーハウス102\, 横須賀市\, 神奈川県\, 238-0012\, 日本
CATEGORIES:EVENT
ATTACH;FMTTYPE=image/jpeg:https://yonabegallery.com/wp2024/wp-content/uploads/2024/05/DSC02733_s.jpg
END:VEVENT
BEGIN:VEVENT
DTSTART;TZID=Asia/Tokyo:20240512T130000
DTEND;TZID=Asia/Tokyo:20240512T200000
DTSTAMP:20260423T150147
CREATED:20240507T000904Z
LAST-MODIFIED:20240507T004242Z
UID:2610-1715518800-1715544000@yonabegallery.com
SUMMARY:5/12（日）ポップアップストア「バイブス商店（レーザー彫刻）」
DESCRIPTION:5/12（日）にYONABE GALLERYにて、横須賀在住のペインターHATAKE氏が主催する「バイブス商店」が出店いたします！\n今回はレーザー彫刻をメインとなると思います。おそらく持ち込みも可能だと思います。 \n是非！よろしくお願いいたします！
URL:https://yonabegallery.com/event/20240512-vibesshoten/
LOCATION:YONABE GALLERY\, 2-33-1 ザ・タワーハウス102\, 横須賀市\, 神奈川県\, 238-0012\, 日本
CATEGORIES:EVENT
ATTACH;FMTTYPE=image/jpeg:https://yonabegallery.com/wp2024/wp-content/uploads/2024/05/IMG_5879_s.jpg
END:VEVENT
BEGIN:VEVENT
DTSTART;TZID=Asia/Tokyo:20240428T150000
DTEND;TZID=Asia/Tokyo:20240428T210000
DTSTAMP:20260423T150147
CREATED:20240415T013207Z
LAST-MODIFIED:20240425T025718Z
UID:2487-1714316400-1714338000@yonabegallery.com
SUMMARY:4/28（Sun）15:00-21:00｜YONABE GALLERYのオープニング的ライブペイントセッション
DESCRIPTION:4/28（日）15:00-21:00にてYONABE GALLERYのオープニング的ライブペイントセッションをいたします！ \nGOSPEL（813gallery）ZONZAI（NO MAD NUMSKULL）HATAKE（バイブス商店）IKKOTORCIDA（YONABE GALLERY）のライブペイントセッションを予定しております。\n詳細は追ってご連絡いたします！ \nお時間都合つく方、是非遊びに来てください！\nお酒あります。
URL:https://yonabegallery.com/event/20240428/
LOCATION:YONABE GALLERY\, 2-33-1 ザ・タワーハウス102\, 横須賀市\, 神奈川県\, 238-0012\, 日本
CATEGORIES:EVENT
ATTACH;FMTTYPE=image/jpeg:https://yonabegallery.com/wp2024/wp-content/uploads/2024/04/20240428_2.jpg
END:VEVENT
BEGIN:VEVENT
DTSTART;TZID=Asia/Tokyo:20240406T130000
DTEND;TZID=Asia/Tokyo:20240406T200000
DTSTAMP:20260423T150147
CREATED:20240326T071005Z
LAST-MODIFIED:20240326T072248Z
UID:2234-1712408400-1712433600@yonabegallery.com
SUMMARY:2024年4月6日YONABE GALLERY オープン！
DESCRIPTION:2024年4月6日にYONABE GALLERY@YOKOSUKAをオープンいたします。\n特にイベント的なことは予定しておりませんが、お越しいただける方と乾杯できたらと思っております。 \n今年に入り自分の中でのタイミングと、物件的なタイミングがちょうど合い、急ピッチでYONABE GALLERYをオープンすることになりました。\n以前から頭の片隅に「横須賀でアートギャラリーをオープンしたいな」という考えはあったのですが、具体的なイメージを持っていた訳ではなく、さらに現時点でもあえてあまりイメージを固めておりません。オープン後に自分が感じるモノを頼りに、自由に方向性を決めていきたいなと考えております。 \nそんな一見ゆるい形で始めるYONABE GALLERYですが、少ないながらにも確固たるイメージが2つあります。 \nひとつ目は、アートギャラリーとして「作品の展示」は行なっていきます。そして「商品」と「作品」の境目を明確にし、展示する作品は「クラフト的」「デザイン的」でないモノという点です。 \nふたつ目は、作品の展示だけでなくワークショップやイベント、企画などを通して「モノをツクルとはどういうことか」「表現するということにはどういった意味があるか」とことを考え、体験いただく場所を提供したいという点です。 \n自分にとっては「できあがった作品自体」にも当然強い意味がありますが、それと同時に「作品を創っているその瞬間」自体にも同じくらい強い意味があります。\nそんな素敵な瞬間、「今」というこの瞬間を皆さんと共有できることを楽しみにしております。 \n少し堅苦しいオープンのご挨拶となりましたが、是非お気軽にお越しください！\nよろしくお願いいたします。
URL:https://yonabegallery.com/event/yonabe-open/
LOCATION:YONABE GALLERY\, 2-33-1 ザ・タワーハウス102\, 横須賀市\, 神奈川県\, 238-0012\, 日本
CATEGORIES:EVENT
ATTACH;FMTTYPE=image/jpeg:https://yonabegallery.com/wp2024/wp-content/uploads/2024/03/yonabe_open_s.jpg
END:VEVENT
END:VCALENDAR